{"text_format":"1","workbook":"xlsx","n_sheets":5,"sheets":["Bilgiler","İzlenebilirlik","Rapor","PERFORMANS Testi","EGT Testi"],"not_rendered":{"charts":0,"images":5,"macros":1,"external_links":0,"defined_names":2,"comments":0,"pivot_tables":0},"unopened":[],"bounds":{"document_bytes":16777216,"sheet_cells":100000,"rows_first":2000,"rows_last":500,"rows_between":2000,"halvings":0,"cell_chars":16384,"cell_head_chars":4096},"cells_cut":0,"cells_raw":0,"read":"whole","date_system":"1900"}

{"sheet":"Bilgiler","index":0,"n_rows":28,"n_cols":25,"rows_kept":28,"cut":false,"hidden":false,"merged":[]}
["Id","Birlik","SağlıkTesisi","Künye","RaporNo","Tür","Cihaz","Üretici","Model","Seri","Lokasyon","KalTarihi","GeçTarihi","RaporTarihi","KalibrasyonYapan","Ünvanı","ZimmetSahibi","NezaretEden","FizikselKontrol","Uygun","Uygunsuz","Sınırlı","UzmanGörüşü","Yorum","Not"]
[1]
[]
[null,"GENEL RAPOR BİLGİLERİ"]
[null,"Sayfa Sayısı",3]
[null,"Test Sayısı",1]
[null,"Biyomedikal Tür","FLOWMETRE"]
[null,"Lab. Sorumlusu","NAZİF İLKER SEZDİ"]
[null,"Ünvanı"]
[]
[null,"STANDART BİLGİLERİ"]
[null,"1. Standart","TS EN ISO 10524-1"]
[null,"1. Standart Başlığı","Basınç\nRegülatörleri Ve Debimetreli Basınç Regülatörleri\n"]
[null,"1. Test Madde No","5.4.14.1"]
[null,"1. Test Başlığı","Debi Kararlılığı ve Doğruluğu"]
[null,"1. Revizyon Tarihi","Tem.2006"]
[null,null,"  "]
[null,"2. Standart"]
[null,"2. Standart Başlığı"]
[null,"2. Test Madde No"]
[null,"2. Test Başlığı"]
[null,"2. Revizyon Tarihi"]
[]
[null,"3. Standart"]
[null,"3. Standart Başlığı","  "]
[null,"3. Test Madde No","  "]
[null,"3. Test Başlığı","  "]
[null,"3. Revizyon Tarihi","  "]

{"sheet":"İzlenebilirlik","index":1,"n_rows":4,"n_cols":10,"rows_kept":4,"cut":false,"hidden":false,"merged":[]}
["Id","Kodu","Cihaz","Üretici","Model","Seri","İzlenebilirlik","SertifikaNo","KalTarihi","GecTarihi"]
[1,"K125","ELEKTRİKSEL GÜVENLİK ANALİZÖRÜ","DATREND","VPAD MINI","VPM18040013","UML","UE-2856","2023-04-14","2024-04-14"]
[2,"K185","DEFİBRİLATÖR ANALİZÖR","DATREND","PHASE 3","PH23031263","DATREND","DT-275","2023-03-30","2024-06-30"]
[3,"-","-","-","-","-","-","-","1991-09-20","1991-09-20"]

{"sheet":"Rapor","index":2,"n_rows":259,"n_cols":37,"rows_kept":259,"cut":false,"hidden":false,"merged":[[248,6,248,28],[248,29,248,31],[193,24,193,33],[196,32,197,36],[198,32,199,36],[200,32,201,36],[243,6,243,28],[243,29,243,31],[244,6,244,28],[244,29,244,31],[245,6,245,28],[245,29,245,31],[246,6,246,28],[246,29,246,31],[247,6,247,28],[247,29,247,31],[237,6,237,13],[237,14,237,17],[239,6,239,31],[240,6,240,28],[240,29,240,31],[241,6,241,28],[241,29,241,31],[242,6,242,28],[242,29,242,31],[232,6,232,13],[232,14,232,17],[233,6,233,13],[233,14,233,17],[234,6,234,13],[234,14,234,17],[235,6,235,13],[235,14,235,17],[236,6,236,13],[236,14,236,17],[227,6,227,13],[227,14,227,17],[227,20,227,27],[227,28,227,31],[229,6,229,17],[230,6,230,13],[230,14,230,17],[231,6,231,13],[231,14,231,17],[224,6,224,17],[224,20,224,31],[225,6,225,13],[225,14,225,17],[225,20,225,27],[225,28,225,31],[226,6,226,13],[226,14,226,17],[226,20,226,27],[226,28,226,31],[220,6,220,17],[220,20,220,31],[221,6,221,13],[221,14,221,17],[221,20,221,27],[221,28,221,31],[222,6,222,13],[222,14,222,17],[222,20,222,27],[222,28,222,31],[216,6,216,17],[216,20,216,31],[217,6,217,10],[217,11,217,14],[217,15,217,17],[217,20,217,24],[217,25,217,28],[217,29,217,31],[218,6,218,10],[218,11,218,14],[218,15,218,17],[218,20,218,24],[218,25,218,28],[218,29,218,31],[213,14,213,17],[213,18,213,21],[213,22,213,24],[213,25,213,28],[213,29,213,31],[214,14,214,17],[214,18,214,21],[214,22,214,24],[214,25,214,28],[214,29,214,31],[211,18,211,21],[211,22,211,24],[211,25,211,28],[211,29,211,31],[212,14,212,17],[212,18,212,21],[212,22,212,24],[212,25,212,28],[212,29,212,31],[206,6,206,31],[207,6,207,13],[207,14,207,17],[207,18,207,21],[207,22,207,24],[207,25,207,28],[207,29,207,31],[208,6,214,13],[208,14,208,17],[208,18,208,21],[208,22,208,24],[208,25,208,28],[208,29,208,31],[209,14,209,17],[209,18,209,21],[209,22,209,24],[209,25,209,28],[209,29,209,31],[210,14,210,17],[210,18,210,21],[210,22,210,24],[210,25,210,28],[210,29,210,31],[211,14,211,17],[186,6,187,14],[186,15,186,19],[186,20,186,23],[186,24,186,26],[186,27,186,29],[186,30,186,31],[187,15,187,23],[187,24,187,26],[187,27,187,29],[187,30,187,31],[182,15,182,19],[182,20,182,23],[182,24,182,26],[182,27,182,29],[182,30,182,31],[184,6,184,31],[185,6,185,14],[185,15,185,19],[185,20,185,23],[185,24,185,26],[185,27,185,29],[185,30,185,31],[178,6,182,14],[178,15,178,19],[178,20,178,23],[178,24,178,26],[178,27,178,29],[178,30,178,31],[179,15,179,19],[179,20,179,23],[179,24,179,26],[179,27,179,29],[179,30,179,31],[180,15,180,19],[176,6,176,31],[177,6,177,14],[177,15,177,19],[177,20,177,23],[177,24,177,26],[177,27,177,29],[177,30,177,31],[180,30,180,31],[181,15,181,19],[181,20,181,23],[181,24,181,26],[181,27,181,29],[181,30,181,31],[180,20,180,23],[180,24,180,26],[180,27,180,29],[172,15,172,19],[172,20,172,23],[172,24,172,26],[172,27,172,29],[172,30,172,31],[173,15,173,19],[173,20,173,23],[173,24,173,26],[173,27,173,29],[173,30,173,31],[170,15,170,19],[170,20,170,23],[170,24,170,26],[170,27,170,29],[170,30,170,31],[171,15,171,19],[171,20,171,23],[171,24,171,26],[171,27,171,29],[171,30,171,31],[166,20,166,23],[166,24,166,26],[166,27,166,29],[166,30,166,31],[168,30,168,31],[169,15,169,19],[169,20,169,23],[169,24,169,26],[169,27,169,29],[169,30,169,31],[155,6,155,13],[155,14,155,17],[155,18,155,21],[155,22,155,25],[155,26,155,28],[155,29,155,31],[159,6,159,8],[160,6,160,31],[161,6,161,15],[161,16,161,21],[161,22,161,27],[161,28,161,31],[153,6,153,13],[153,14,153,17],[153,18,153,21],[153,22,153,25],[153,26,153,28],[153,29,153,31],[154,6,154,13],[154,14,154,17],[154,18,154,21],[154,22,154,25],[154,26,154,28],[154,29,154,31],[151,6,151,13],[151,14,151,17],[151,18,151,21],[151,22,151,25],[151,26,151,28],[151,29,151,31],[152,6,152,13],[152,14,152,17],[152,18,152,21],[152,22,152,25],[152,26,152,28],[152,29,152,31],[149,6,149,13],[149,14,149,17],[149,18,149,21],[149,22,149,25],[149,26,149,28],[149,29,149,31],[150,6,150,13],[150,14,150,17],[150,18,150,21],[150,22,150,25],[150,26,150,28],[150,29,150,31],[147,6,147,13],[147,14,147,17],[147,18,147,21],[147,22,147,25],[147,26,147,28],[147,29,147,31],[148,6,148,13],[148,14,148,17],[148,18,148,21],[148,22,148,25],[148,26,148,28],[148,29,148,31],[145,29,145,31],[146,6,146,13],[146,14,146,17],[146,18,146,21],[146,22,146,25],[146,26,146,28],[146,29,146,31],[144,6,144,13],[144,14,144,17],[258,24,258,33],[143,29,143,31],[144,18,144,21],[144,22,144,25],[158,6,158,31],[140,6,140,31],[141,6,141,13],[141,14,141,17],[141,18,141,21],[141,22,141,25],[141,26,141,28],[141,29,141,31],[142,6,142,13],[142,14,142,17],[142,18,142,21],[142,22,142,25],[142,29,142,31],[144,26,144,28],[144,29,144,31],[145,6,145,13],[145,14,145,17],[145,18,145,21],[145,22,145,25],[145,26,145,28],[117,11,117,15],[118,11,118,15],[119,11,119,15],[117,26,117,30],[118,26,118,30],[119,26,119,30],[118,2,118,10],[117,2,117,10],[7,32,8,36],[9,32,10,36],[11,32,12,36],[61,24,61,33],[64,32,65,36],[66,32,67,36],[68,32,69,36],[75,2,75,9],[75,10,75,12],[15,2,15,8],[15,10,16,36],[16,2,16,8],[17,10,18,37],[29,2,29,8],[31,2,31,8],[31,10,31,17],[31,19,31,24],[31,25,31,34],[23,2,23,8],[25,2,25,8],[26,2,26,8],[28,2,28,8],[28,10,28,36],[25,10,25,38],[19,2,19,8],[19,10,19,37],[20,2,20,8],[22,2,22,8],[22,10,22,37],[32,2,32,8],[32,19,32,23],[50,2,50,4],[50,8,50,11],[50,15,50,22],[50,26,50,35],[51,8,51,11],[51,15,51,22],[51,26,51,35],[34,2,34,8],[34,10,34,17],[34,25,34,34],[35,2,35,8],[49,2,49,4],[49,8,49,11],[49,15,49,22],[49,26,49,35],[143,6,143,13],[143,14,143,17],[143,18,143,21],[143,22,143,25],[143,26,143,28],[127,24,127,33],[130,32,131,36],[132,32,133,36],[134,32,135,36],[142,26,142,28],[250,2,254,5],[250,6,254,36],[162,6,162,15],[162,16,162,21],[162,22,162,27],[162,28,162,31],[164,6,164,31],[165,6,165,14],[165,15,165,19],[165,20,165,23],[165,24,165,26],[165,27,165,29],[165,30,165,31],[166,6,173,14],[166,15,166,19],[167,15,167,19],[167,20,167,23],[167,24,167,26],[167,27,167,29],[167,30,167,31],[168,15,168,19],[168,20,168,23],[168,24,168,26],[168,27,168,29],[117,16,117,20],[118,16,118,20],[119,16,119,20],[120,16,120,20],[121,16,121,20],[117,21,117,25],[118,21,118,25],[119,21,119,25],[120,21,120,25],[121,21,121,25],[117,31,117,34],[118,31,118,34],[121,31,121,34],[120,31,120,34],[119,31,119,34],[117,35,117,38],[118,35,118,38],[119,35,119,38],[120,35,120,38],[121,35,121,38],[120,2,120,10],[119,2,119,10],[122,2,122,10],[122,11,122,15],[122,16,122,20],[122,21,122,25],[122,26,122,30],[122,31,122,34],[120,26,120,30],[121,26,121,30],[120,11,120,15],[121,11,121,15],[122,35,122,38],[123,2,123,10],[123,11,123,15],[123,16,123,20],[123,21,123,25],[123,26,123,30],[123,31,123,34],[123,35,123,38],[121,2,121,10]]}
[]
[]
[]
[]
[]
[]
[]
[null,null,null,null,null,null,null,null,null,null,null,null,null,null,null,null,null,null,null,null,null,null,null,null,null,null,null,null,null,null,null,null,"AB-1251-T"]
[]
[null,null,null,null,null,null,null,null,null,null,null,null,null,null,null,null,null,null,null,null,null,null,null,null,null,null,null,null,null,null,null,null,{"$f":"Bilgiler!E2","v":0}]
[]
[null,null,null,null,null,null,null,null,null,null,null,null,null,null,null,null,null,null,null,null,null,null,null,null,null,null,null,null,null,null,null,null,{"$f":"Bilgiler!L2","v":"00:00:00"}]
[]
[]
[]
[null,null,"Cihazın Sahibi / Adresi",null,null,null,null,null,null,":",{"$f":"Bilgiler!C2","v":0}]
[null,null,"Customer"]
[null,null,null,null,null,null,null,null,null,null,{"$f":"CONCATENATE(\"Lokasyon: \",Bilgiler!K2,\" - \", \"Adres: \",Bilgiler!F2)","v":"Lokasyon:  - Adres: "}]
[]
[null,null,"Proje/Teklif Numarası",null,null,null,null,null,null,":",{"$f":"Bilgiler!B2","v":0}]
[null,null,"Order Number",null,null,null,null,null,null,null,null,null,null,null,null,null,null,null,null,null,null,null,null," "]
[]
[null,null,"Makine / Cihaz",null,null,null,null,null,null,":",{"$f":"Bilgiler!G2","v":0}]
[null,null,"Instrument / Device"]
[]
[null,null,"İmalatçı",null,null,null,null,null,null,":",{"$f":"Bilgiler!H2","v":0}]
[null,null,"Manufacturer"]
[]
[null,null,"Tip",null,null,null,null,null,null,":",{"$f":"Bilgiler!I2","v":0}]
[null,null,"Type"]
[]
[null,null,"Kalibrasyon Tarihi",null,null,null,null,null,null,":",{"$f":"Bilgiler!L2","v":"00:00:00"},null,null,null,null,null,null,null,null,"Seri Numarası        :",null,null,null,null,null,{"$f":"Bilgiler!J2","v":0}]
[null,null,"Date of Calibration",null,null,null,null,null,null,null,null,null,null,null,null,null,null,null,null,"Serial Number"]
[]
[null,null,"Rapor Sayfa Sayısı",null,null,null,null,null,null,":",3,null,null,null,null,null,null,null,null,"Künye Numarası    :",null,null,null,null,null,{"$f":"Bilgiler!D2","v":0}]
[null,null,"Total Number of Certificate",null,null,null,null,null,null,null,null,null,null,null,null,null,null,null,null,"Identity Number"]
[]
[]
[]
[]
[]
[]
[]
[]
[]
[]
[]
[]
[]
[null,null,"Mühür",null,null,null,null,null,"Tarih",null,null,null,null,null,null,"Deneyi Yapan",null,null,null,null,null,null,null,null,null,null,"Sorumlu Müdür"]
[null,null,"Seal",null,null,null,null,null,"Date",null,null,null,null,null,null,"Experimenter",null,null,null,null,null,null,null,null,null,null,"Responsible Manager"]
[null,null,null,null,null,null,null,null,{"$f":"Bilgiler!N2","v":"00:00:00"},null,null,null,null,null,null,{"$f":"Bilgiler!O2","v":"00:00:00"},null,null,null,null,null,null,null,null,null,null,{"$f":"Bilgiler!C8","v":"NAZİF İLKER SEZDİ"}]
[]
[]
[]
[]
[]
[]
[]
[null,"Bu sertifika, laboratuvarın yazılı izni olmadan kısmen veya tamamen kopyalanıp çoğaltılamaz. İmzasız sertifikalar geçersizdir."]
[null,"This certificate can not be fully or partly reproduced without the permission of the laboratory. Calibration certificates without signature are not valid."]
[null,"MB4001/ Yay.tar: 04.12.2008 /Rev.tar: 23.01.2024/Rev.no: 7",null,null,null,null,null,null,null,null,null,null,null,null,null,null,null,null,null,null,null,null,null,null,"Sayfa No / Number of Pages:",null,null,null,null,null,null,null,null,null,1,"/",4]
[]
[]
[null,null,null,null,null,null,null,null,null,null,null,null,null,null,null,null,null,null,null,null,null,null,null,null,null,null,null,null,null,null,null,null,{"$f":"AG8","v":"AB-1251-T"}]
[]
[null,null,null,null,null,null,null,null,null,null,null,null,null,null,null,null,null,null,null,null,null,null,null,null,null,null,null,null,null,null,null,null,{"$f":"AG10","v":0}]
[]
[null,null,null,null,null,null,null,null,null,null,null,null,null,null,null,null,null,null,null,null,null,null,null,null,null,null,null,null,null,null,null,null,{"$f":"AG12","v":"00:00:00"}]
[]
[]
[]
[]
[]
[null,null,"Test ve Deneyi Yapılan Cihaz Bilgileri :"]
[null,null,"Instrument Details"]
[null,null,"Künye No",null,null,null,null,":",{"$f":"Bilgiler!D2","v":0}]
[null,null,"Imprint No"]
[null,null,"Makine Cihaz",null,null,null,null,":",{"$f":"Bilgiler!G2","v":0}]
[null,null,"Instrument/Device"]
[null,null,"Üretici",null,null,null,null,":",{"$f":"Bilgiler!H2","v":0}]
[null,null,"Manufacturer"]
[null,null,"Tip",null,null,null,null,":",{"$f":"Bilgiler!I2","v":0}]
[null,null,"Type"]
[null,null,"Seri Numarası",null,null,null,null,":",{"$f":"Bilgiler!J2","v":0}]
[null,null,"Serial Number"]
[]
[]
[]
[]
[]
[]
[]
[]
[]
[]
[]
[]
[]
[]
[]
[]
[]
[]
[]
[]
[]
[]
[]
[]
[]
[]
[]
[]
[]
[null,null,"Kalibrasyon sırasında kullanılan referanslar ve cihazlar:"]
[null,null,"References and devices used during calibration:"]
[null,null,"Cihaz",null,null,null,null,null,null,null,null,"Marka",null,null,null,null,"Model",null,null,null,null,"Seri Numarası",null,null,null,null,"Sertifika No",null,null,null,null,"İzlenebilirlik",null,null,null,"Kalib.Tarihi"]
[null,null,"Device",null,null,null,null,null,null,null,null,"Marka",null,null,null,null,"Model",null,null,null,null,"Serial Num.",null,null,null,null,"Certificate Number",null,null,null,null,"Traceability",null,null,null,"Cal.Date"]
[null,null,{"$f":"İzlenebilirlik!C2","v":"ELEKTRİKSEL GÜVENLİK ANALİZÖRÜ"},null,null,null,null,null,null,null,null,{"$f":"İzlenebilirlik!D2","v":"DATREND"},null,null,null,null,{"$f":"İzlenebilirlik!E2","v":"VPAD MINI"},null,null,null,null,{"$f":"İzlenebilirlik!F2","v":"VPM18040013"},null,null,null,null,{"$f":"İzlenebilirlik!H2","v":"UE-2856"},null,null,null,null,{"$f":"İzlenebilirlik!G2","v":"UML"},null,null,null,{"$f":"IF(İzlenebilirlik!C2=\"-\",\"-\",İzlenebilirlik!I2)","v":"2023-04-14"}]
[null,null,{"$f":"İzlenebilirlik!C3","v":"DEFİBRİLATÖR ANALİZÖR"},null,null,null,null,null,null,null,null,{"$f":"İzlenebilirlik!D3","v":"DATREND"},null,null,null,null,{"$f":"İzlenebilirlik!E3","v":"PHASE 3"},null,null,null,null,{"$f":"İzlenebilirlik!F3","v":"PH23031263"},null,null,null,null,{"$f":"İzlenebilirlik!H3","v":"DT-275"},null,null,null,null,{"$f":"İzlenebilirlik!G3","v":"DATREND"},null,null,null,{"$f":"IF(İzlenebilirlik!C3=\"-\",\"-\",İzlenebilirlik!I3)","v":"2023-03-30"}]
[null,null,{"$f":"İzlenebilirlik!C4","v":"-"},null,null,null,null,null,null,null,null,{"$f":"İzlenebilirlik!D4","v":"-"},null,null,null,null,{"$f":"İzlenebilirlik!E4","v":"-"},null,null,null,null,{"$f":"İzlenebilirlik!F4","v":"-"},null,null,null,null,{"$f":"İzlenebilirlik!H4","v":"-"},null,null,null,null,{"$f":"İzlenebilirlik!G4","v":"-"},null,null,null,{"$f":"IF(İzlenebilirlik!C4=\"-\",\"-\",İzlenebilirlik!I4)","v":"-"}]
[]
[]
[]
[null,"Bu sertifika, laboratuvarın yazılı izni olmadan kısmen veya tamamen kopyalanıp çoğaltılamaz. İmzasız sertifikalar geçersizdir."]
[null,"This certificate can not be fully or partly reproduced without the permission of the laboratory. Calibration certificates without signature are not valid."]
[null,"MB4001/ Yay.tar: 04.12.2008 /Rev.tar: 23.01.2024/Rev.no: 7",null,null,null,null,null,null,null,null,null,null,null,null,null,null,null,null,null,null,null,null,null,null,"Sayfa No / Number of Pages:",null,null,null,null,null,null,null,null,null,2,"/",4]
[]
[]
[null,null,null,null,null,null,null,null,null,null,null,null,null,null,null,null,null,null,null,null,null,null,null,null,null,null,null,null,null,null,null,null,{"$f":"AG8","v":"AB-1251-T"}]
[]
[null,null,null,null,null,null,null,null,null,null,null,null,null,null,null,null,null,null,null,null,null,null,null,null,null,null,null,null,null,null,null,null,{"$f":"AG10","v":0}]
[]
[null,null,null,null,null,null,null,null,null,null,null,null,null,null,null,null,null,null,null,null,null,null,null,null,null,null,null,null,null,null,null,null,{"$f":"AG12","v":"00:00:00"}]
[]
[]
[]
[]
[]
[null,null,null,null,null,null,"ELEKTRİKSEL GÜVENLİK TESTİ"]
[null,null,null,null,null,null,"Test Tipi",null,null,null,null,null,null,null,"Ölçüm",null,null,null,"Alt Limit",null,null,null,"Üst Limit",null,null,null,"BF/CF",null,null,"Sonuç"]
[null,null,null,null,null,null,"Şebeke Gerilimi  ",null,null,null,null,null,null,null,{"$f":"'EGT Testi'!$B$2","v":233},null,null,null,"207 V",null,null,null,"253 V",null,null,null,"N/A",null,null,"√"]
[null,null,null,null,null,null,"Yük Akımı [A]",null,null,null,null,null,null,null,{"$f":"'EGT Testi'!$C$2","v":0.29500000000000004},null,null,null,"0 A",null,null,null,"16 A",null,null,null,"N/A",null,null,"√"]
[null,null,null,null,null,null,"Toprak Direnci [ohm]@1A",null,null,null,null,null,null,null,{"$f":"'EGT Testi'!$D$2","v":0.1},null,null,null,"0 Ω",null,null,null,"0,2 Ω",null,null,null,"N/A",null,null,"√"]
[null,null,null,null,null,null,"Toprak Kaçak Akım-NC [µA]",null,null,null,null,null,null,null,{"$f":"'EGT Testi'!$E$2","v":56},null,null,null,"0 μA",null,null,null,"500 μA",null,null,null,"N/A",null,null,"√"]
[null,null,null,null,null,null,"Toprak Kaçak Akım-SFC [µA]",null,null,null,null,null,null,null,{"$f":"'EGT Testi'!$F$2","v":236},null,null,null,"0 μA",null,null,null,"1000 μA",null,null,null,"N/A",null,null,"√"]
[null,null,null,null,null,null,"Gövde Kaçak-NC- [µA]",null,null,null,null,null,null,null,{"$f":"'EGT Testi'!$G$2","v":91},null,null,null,"0 μA",null,null,null,"100 μA",null,null,null,"N/A",null,null,"√"]
[null,null,null,null,null,null,"Gövde Kaçak-SFC- PE [µA]",null,null,null,null,null,null,null,{"$f":"'EGT Testi'!$H$2","v":208},null,null,null,"0 μA",null,null,null,"500 μA",null,null,null,"N/A",null,null,"√"]
[null,null,null,null,null,null,"Gövde Kaçak-SFC-LINE [µA]",null,null,null,null,null,null,null,{"$f":"'EGT Testi'!$I$2","v":343},null,null,null,"0 μA",null,null,null,"500 μA",null,null,null,"N/A",null,null,"√"]
[null,null,null,null,null,null,"İzolasyon Direnci [MOhm]",null,null,null,null,null,null,null,{"$f":"'EGT Testi'!$K$2","v":82},null,null,null,"50 mΩ",null,null,null,"-",null,null,null,"N/A",null,null,"√"]
[null,null,null,null,null,null,"Hasta Kaçak [mA] Ekg lead 1",null,null,null,null,null,null,null,{"$f":"'EGT Testi'!$M$2","v":5.7000000000000002E-3},null,null,null,"0 mA",null,null,null,0.01,null,null,null,"CF",null,null,"√"]
[null,null,null,null,null,null,"Hasta Kaçak [mA] Ekg lead 2",null,null,null,null,null,null,null,{"$f":"'EGT Testi'!$N$2","v":4.0000000000000001E-3},null,null,null,"0 mA",null,null,null,0.01,null,null,null,"CF",null,null,"√"]
[null,null,null,null,null,null,"Hasta Kaçak [mA] Ekg lead 3",null,null,null,null,null,null,null,{"$f":"'EGT Testi'!$O$2","v":4.5999999999999999E-3},null,null,null,"0 mA",null,null,null,0.01,null,null,null,"CF",null,null,"√"]
[null,null,null,null,null,null,"Hasta Kaçak [mA] Pedal 1",null,null,null,null,null,null,null,{"$f":"'EGT Testi'!$P$2","v":9.7000000000000003E-3},null,null,null,"0 mA",null,null,null,0.01,null,null,null,"BF",null,null,"√"]
[null,null,null,null,null,null,"Hasta Kaçak [mA] Pedal 2",null,null,null,null,null,null,null,{"$f":"'EGT Testi'!$Q$2","v":2.7000000000000001E-3},null,null,null,"0 mA",null,null,null,0.01,null,null,null,"BF",null,null,"√"]
[]
[]
[null,null,null,null,null,null,"CİHAZ MAX ENERJİ DEĞERİ"]
[null,null,null,null,null,null,270,null,null,"joule"]
[null,null,null,null,null,null,"SARJ TUTABİLME ÖZELLİĞİ"]
[null,null,null,null,null,null,"Tolerans",null,null,null,null,null,null,null,null,null,"Ayarlanan joule",null,null,null,null,null,"Ölçülen joule",null,null,null,null,null,"Sonuç"]
[null,null,null,null,null,null,"Cihaz maksimum joule değerine şarj olduktan 60 sn. Min %85",null,null,null,null,null,null,null,null,null,270,null,null,null,null,null,270,null,null,null,null,null,"√"]
[]
[null,null,null,null,null,null,"ENERJİ (Joule) PERFORMANS TESTİ"]
[null,null,null,null,null,null,"Tolerans",null,null,null,null,null,null,null,null,"Ayarlanan (joule)",null,null,null,null,"Ölçülen (joule)",null,null,null,"Sapma",null,null,"Belirsizlik",null,null,"Sonuç"]
[null,null,null,null,null,null,"RL = 50 Ohm\nCihazın verebildiği enerji, 25 Joule altında :+/-4 Joule; üzerinde ise +/- %15 tolerans değerleri arasında olmalıdır.",null,null,null,null,null,null,null,null,5,null,null,null,null,{"$f":"IF(Bilgiler!AA65=\"X\",\" \",IF('PERFORMANS Testi'!G$2=\"\",(RAND()*(P167*0.99-P167*1.03)-P167*0.99)*(-1),'PERFORMANS Testi'!G65))","v":5.1388226286132399},null,null,null,{"$f":"IF(Bilgiler!AA65=\"X\",\" \",U167-P167)","v":0.13882262861323991},null,null,{"$f":"IF(Bilgiler!AA65=\"X\",\" \",(SQRT((U167*0.02)^2+(0.005/SQRT(3))^2))/100)","v":1.0281698564280285E-3},null,null,{"$f":"IF(Bilgiler!AA65=\"X\",\" \",IF(OR(Y167<-4,Y167>4),\"X\",\"√\"))","v":"√"}]
[null,null,null,null,null,null,null,null,null,null,null,null,null,null,null,10,null,null,null,null,{"$f":"IF(Bilgiler!AA65=\"X\",\" \",IF('PERFORMANS Testi'!H$2=\"\",(RAND()*(P168*0.99-P168*1.03)-P168*0.99)*(-1),'PERFORMANS Testi'!H65))","v":10.154639759776256},null,null,null,{"$f":"IF(Bilgiler!AA65=\"X\",\" \",U168-P168)","v":0.15463975977625566},null,null,{"$f":"IF(Bilgiler!AA65=\"X\",\" \",(SQRT((U168*0.02)^2+(0.005/SQRT(3))^2))/100)","v":2.0311331023265028E-3},null,null,{"$f":"IF(Bilgiler!AA65=\"X\",\" \",IF(OR(Y168<-4,Y168>4),\"X\",\"√\"))","v":"√"}]
[null,null,null,null,null,null,null,null,null,null,null,null,null,null,null,30,null,null,null,null,{"$f":"IF(Bilgiler!AA65=\"X\",\" \",IF('PERFORMANS Testi'!$F$2=\"\",(RAND()*(P169*0.99-P169*1.03)-P169*0.99)*(-1),'PERFORMANS Testi'!$F$2))","v":30.895829238486783},null,null,null,{"$f":"IF(Bilgiler!AA65=\"X\",\" \",U169-P169)","v":0.8958292384867832},null,null,{"$f":"IF(Bilgiler!AA65=\"X\",\" \",(SQRT((U169*0.02)^2+(0.005/SQRT(3))^2))/100)","v":6.1792332782217184E-3},null,null,{"$f":"IF(Bilgiler!AA65=\"X\",\" \",IF(OR(Y169<-P169*0.15,Y169>P169*0.15),\"X\",\"√\"))","v":"√"}]
[null,null,null,null,null,null,null,null,null,null,null,null,null,null,null,50,null,null,null,null,{"$f":"IF(Bilgiler!AA65=\"X\",\" \",IF('PERFORMANS Testi'!$G$2=\"\",(RAND()*(P170*0.99-P170*1.03)-P170*0.99)*(-1),'PERFORMANS Testi'!$G$2))","v":50.646210386709903},null,null,null,{"$f":"IF(Bilgiler!AA65=\"X\",\" \",U170-P170)","v":0.64621038670990316},null,null,{"$f":"IF(Bilgiler!AA65=\"X\",\" \",(SQRT((U170*0.02)^2+(0.005/SQRT(3))^2))/100)","v":1.0129283212287463E-2},null,null,{"$f":"IF(Bilgiler!AA65=\"X\",\" \",IF(OR(Y170<-P170*0.15,Y170>P170*0.15),\"X\",\"√\"))","v":"√"}]
[null,null,null,null,null,null,null,null,null,null,null,null,null,null,null,100,null,null,null,null,{"$f":"IF(Bilgiler!AA65=\"X\",\" \",IF('PERFORMANS Testi'!K$2=\"\",(RAND()*(P171*0.99-P171*1.03)-P171*0.99)*(-1),'PERFORMANS Testi'!K65))","v":102.67897742490743},null,null,null,{"$f":"IF(Bilgiler!AA65=\"X\",\" \",U171-P171)","v":2.6789774249074298},null,null,{"$f":"IF(Bilgiler!AA65=\"X\",\" \",(SQRT((U171*0.02)^2+(0.005/SQRT(3))^2))/100)","v":2.0535815774746311E-2},null,null,{"$f":"IF(Bilgiler!AA65=\"X\",\" \",IF(OR(Y171<-P171*0.15,Y171>P171*0.15),\"X\",\"√\"))","v":"√"}]
[null,null,null,null,null,null,null,null,null,null,null,null,null,null,null,200,null,null,null,null,{"$f":"IF(Bilgiler!AA65=\"X\",\" \",IF('PERFORMANS Testi'!M$2=\"\",(RAND()*(P172*0.99-P172*1.03)-P172*0.99)*(-1),'PERFORMANS Testi'!M65))","v":204.56790555053735},null,null,null,{"$f":"IF(Bilgiler!AA65=\"X\",\" \",U172-P172)","v":4.5679055505373469},null,null,{"$f":"IF(Bilgiler!AA65=\"X\",\" \",(SQRT((U172*0.02)^2+(0.005/SQRT(3))^2))/100)","v":4.091359129417358E-2},null,null,{"$f":"IF(Bilgiler!AA65=\"X\",\" \",IF(OR(Y172<-P172*0.15,Y172>P172*0.15),\"X\",\"√\"))","v":"√"}]
[null,null,null,null,null,null,null,null,null,null,null,null,null,null,null,270,null,null,null,null,{"$f":"IF(Bilgiler!AA65=\"X\",\" \",IF('PERFORMANS Testi'!O$2=\"\",(RAND()*(P173*0.99-P173*1.03)-P173*0.99)*(-1),'PERFORMANS Testi'!O65))","v":276.1616136151535},null,null,null,{"$f":"IF(Bilgiler!AA65=\"X\",\" \",U173-P173)","v":6.1616136151534988},null,null,{"$f":"IF(Bilgiler!AA65=\"X\",\" \",(SQRT((U173*0.02)^2+(0.005/SQRT(3))^2))/100)","v":5.5232330266921988E-2},null,null,{"$f":"IF(Bilgiler!AA65=\"X\",\" \",IF(OR(Y173<-P173*0.15,Y173>P173*0.15),\"X\",\"√\"))","v":"√"}]
[null,null,null,null,null,null,null,null,null,null,null,null,null,null,null,270,null,null,null,null,{"$f":"IF(Bilgiler!AA65=\"X\",\" \",IF('PERFORMANS Testi'!Q$2=\"\",(RAND()*(P174*0.99-P174*1.03)-P174*0.99)*(-1),'PERFORMANS Testi'!Q65))","v":269.91055455373709},null,null,null,{"$f":"IF(Bilgiler!AA65=\"X\",\" \",U174-P174)","v":-8.9445446262914174E-2},null,null,{"$f":"IF(Bilgiler!AA65=\"X\",\" \",(SQRT((U174*0.02)^2+(0.005/SQRT(3))^2))/100)","v":5.398211862935326E-2},null,null,{"$f":"IF(Bilgiler!AA65=\"X\",\" \",IF(OR(Y174<-P174*0.15,Y174>P174*0.15),\"X\",\"√\"))","v":"√"}]
[]
[]
[null,null,null,null,null,null,"PEDAL NABIZ TESTİ"]
[null,null,null,null,null,null,"Tolerans",null,null,null,null,null,null,null,null,"Ayarlanan (bpm)",null,null,null,null,"Ölçülen (bpm)",null,null,null,"Sapma",null,null,"Belirsizlik",null,null,"Sonuç"]
[null,null,null,null,null,null,"±%5 veya 5 vuru/dak.’dan hangisi büyükse",null,null,null,null,null,null,null,null,30,null,null,null,null,{"$f":"IF(Bilgiler!AA59=\"X\",\" \",IF('PERFORMANS Testi'!$O$2=\"\",(RAND()*(P179*0.99-P179*1.03)-P179*0.99)*(-1),'PERFORMANS Testi'!$O$2))","v":30.815846783934681},null,null,null,{"$f":"IF(Bilgiler!AA59=\"X\",\" \",U179-P179)","v":0.81584678393468124},null,null,{"$f":"IF(Bilgiler!AA59=\"X\",\" \",(SQRT((U179*0.02)^2+(0.005/SQRT(3))^2))/100)","v":6.1632369623251405E-3},null,null,"√"]
[null,null,null,null,null,null,null,null,null,null,null,null,null,null,null,60,null,null,null,null,{"$f":"IF(Bilgiler!AA59=\"X\",\" \",IF('PERFORMANS Testi'!$P$2=\"\",(RAND()*(P180*0.99-P180*1.03)-P180*0.99)*(-1),'PERFORMANS Testi'!$P$2))","v":59.896062526908509},null,null,null,{"$f":"IF(Bilgiler!AA59=\"X\",\" \",U180-P180)","v":-0.10393747309149148},null,null,{"$f":"IF(Bilgiler!AA59=\"X\",\" \",(SQRT((U180*0.02)^2+(0.005/SQRT(3))^2))/100)","v":1.1979247287806805E-2},null,null,"√"]
[null,null,null,null,null,null,null,null,null,null,null,null,null,null,null,80,null,null,null,null,{"$f":"IF(Bilgiler!AA59=\"X\",\" \",IF('PERFORMANS Testi'!$Q$2=\"\",(RAND()*(P181*0.99-P181*1.03)-P181*0.99)*(-1),'PERFORMANS Testi'!$Q$2))","v":82.086091273259356},null,null,null,{"$f":"IF(Bilgiler!AA59=\"X\",\" \",U181-P181)","v":2.0860912732593562},null,null,{"$f":"IF(Bilgiler!AA59=\"X\",\" \",(SQRT((U181*0.02)^2+(0.005/SQRT(3))^2))/100)","v":1.6417243634490167E-2},null,null,"√"]
[null,null,null,null,null,null,null,null,null,null,null,null,null,null,null,120,null,null,null,null,{"$f":"IF(Bilgiler!AA59=\"X\",\" \",IF('PERFORMANS Testi'!$R$2=\"\",(RAND()*(P182*0.99-P182*1.03)-P182*0.99)*(-1),'PERFORMANS Testi'!$R$2))","v":118.91241257451316},null,null,null,{"$f":"IF(Bilgiler!AA59=\"X\",\" \",U182-P182)","v":-1.0875874254868449},null,null,{"$f":"IF(Bilgiler!AA59=\"X\",\" \",(SQRT((U182*0.02)^2+(0.005/SQRT(3))^2))/100)","v":2.3782500034794127E-2},null,null,"√"]
[null,null,null,null,null,null,null,null,null,null,null,null,null,null,null,180,null,null,null,null,{"$f":"IF(Bilgiler!AA59=\"X\",\" \",IF('PERFORMANS Testi'!$S$2=\"\",(RAND()*(P183*0.99-P183*1.03)-P183*0.99)*(-1),'PERFORMANS Testi'!$S$2))","v":178.81892607948319},null,null,null,{"$f":"IF(Bilgiler!AA59=\"X\",\" \",U183-P183)","v":-1.181073920516809},null,null,{"$f":"IF(Bilgiler!AA59=\"X\",\" \",(SQRT((U183*0.02)^2+(0.005/SQRT(3))^2))/100)","v":3.5763796866413948E-2},null,null,"√"]
[]
[null,null,null,null,null,null,"SEKRONİZASYON TESTİ"]
[null,null,null,null,null,null,"Tolerans",null,null,null,null,null,null,null,null,"Ayarlanan (joule)",null,null,null,null,"Ölçülen (joule)",null,null,null,"Sapma",null,null,"Belirsizlik",null,null,"Sonuç"]
[null,null,null,null,null,null,"Cihaz, EKG R-dalgası tepe değerinden azami   60 milisaniye içinde deşarj olabilmelidir. @50joule",null,null,null,null,null,null,null,null,50,null,null,null,null,{"$f":"IF(Bilgiler!AA59=\"X\",\" \",IF('PERFORMANS Testi'!W$2=\"\",(RAND()*(P187*0.99-P187*1.03)-P187*0.99)*(-1),'PERFORMANS Testi'!W59))","v":51.086398618592341},null,null,null,{"$f":"IF(Bilgiler!AA59=\"X\",\" \",U187-P187)","v":1.0863986185923409},null,null,{"$f":"IF(Bilgiler!AA59=\"X\",\" \",(SQRT((U187*0.02)^2+(0.005/SQRT(3))^2))/100)","v":1.0217320504224279E-2},null,null,{"$f":"IF(Bilgiler!AA59=\"X\",\" \",IF(OR(Y187<-P187*0.15,Y187>P187*0.15),\"X\",\"√\"))","v":"√"}]
[null,null,null,null,null,null,null,null,null,null,null,null,null,null,null,"SEKRONİZASYON SÜRESİ:",null,null,null,null,null,null,null,null,{"$f":"IF(Bilgiler!AA59=\"X\",\" \",IF('PERFORMANS Testi'!X$2=\"\",(RAND()*(25-18)-25)*(-1),'PERFORMANS Testi'!X59))","v":18.784015419567787},null,null,"ms",null,null,{"$f":"IF(Bilgiler!AA59=\"X\",\" \",IF(Y188>60,\"X\",\"√\"))","v":"√"}]
[]
[]
[]
[null,"Bu sertifika, laboratuvarın yazılı izni olmadan kısmen veya tamamen kopyalanıp çoğaltılamaz. İmzasız sertifikalar geçersizdir."]
[null,"This certificate can not be fully or partly reproduced without the permission of the laboratory. Calibration certificates without signature are not valid."]
[null,"MB4001/ Yay.tar: 04.12.2008 /Rev.tar: 23.01.2024/Rev.no: 7",null,null,null,null,null,null,null,null,null,null,null,null,null,null,null,null,null,null,null,null,null,null,"Sayfa No / Number of Pages:",null,null,null,null,null,null,null,null,null,3,"/",4]
[]
[]
[null,null,null,null,null,null,null,null,null,null,null,null,null,null,null,null,null,null,null,null,null,null,null,null,null,null,null,null,null,null,null,null,{"$f":"AG131","v":"AB-1251-T"}]
[]
[null,null,null,null,null,null,null,null,null,null,null,null,null,null,null,null,null,null,null,null,null,null,null,null,null,null,null,null,null,null,null,null,{"$f":"AG133","v":0}]
[]
[null,null,null,null,null,null,null,null,null,null,null,null,null,null,null,null,null,null,null,null,null,null,null,null,null,null,null,null,null,null,null,null,{"$f":"AG135","v":"00:00:00"}]
[]
[]
[]
[]
[]
[null,null,null,null,null,null,"EKG NABIZ TESTİ"]
[null,null,null,null,null,null,"Tolerans",null,null,null,null,null,null,null,"Ayarlanan\nBPM",null,null,null,"Ölçülen\nBPM",null,null,null,"Sapma\nBPM",null,null,"Belirsizlik\nBPM",null,null,null,"Sonuç"]
[null,null,null,null,null,null,"±%5 veya 5 vuru/dak.’dan hangisi büyükse",null,null,null,null,null,null,null,60,null,null,null,{"$f":"IF(Bilgiler!Z64=\"X\",\" \",IF('PERFORMANS Testi'!X$2=\"\",RANDBETWEEN(59,60),'PERFORMANS Testi'!X64))","v":60},null,null,null,{"$f":"IF(Bilgiler!Z64=\"X\",\" \",S209-O209)","v":0},null,null,{"$f":"IF(Bilgiler!Z64=\"X\",\" \",SQRT((0.0005*S209)^2+(0.005*SQRT(S209))^2))","v":4.8989794855663564E-2},null,null,null,{"$f":"IF(Bilgiler!Z64=\"X\",\" \",IF(OR(W209<-5,W209>5),\"X\",\"√\"))","v":"√"}]
[null,null,null,null,null,null,null,null,null,null,null,null,null,null,80,null,null,null,{"$f":"IF(Bilgiler!Z64=\"X\",\" \",IF('PERFORMANS Testi'!Y$2=\"\",RANDBETWEEN(79,80),'PERFORMANS Testi'!Y64))","v":79},null,null,null,{"$f":"IF(Bilgiler!Z64=\"X\",\" \",S210-O210)","v":-1},null,null,{"$f":"IF(Bilgiler!Z64=\"X\",\" \",SQRT((0.0005*S210)^2+(0.005*SQRT(S210))^2))","v":5.9457968347396466E-2},null,null,null,{"$f":"IF(Bilgiler!Z64=\"X\",\" \",IF(OR(W210<-5,W210>5),\"X\",\"√\"))","v":"√"}]
[null,null,null,null,null,null,null,null,null,null,null,null,null,null,120,null,null,null,{"$f":"IF(Bilgiler!Z64=\"X\",\" \",IF('PERFORMANS Testi'!N$2=\"\",RANDBETWEEN(118,120),'PERFORMANS Testi'!N64))","v":119},null,null,null,{"$f":"IF(Bilgiler!Z64=\"X\",\" \",S211-O211)","v":-1},null,null,{"$f":"IF(Bilgiler!Z64=\"X\",\" \",SQRT((0.0005*S211)^2+(0.005*SQRT(S211))^2))","v":8.0717098560342218E-2},null,null,null,{"$f":"IF(Bilgiler!Z64=\"X\",\" \",IF(OR(W211<-5,W211>5),\"X\",\"√\"))","v":"√"}]
[null,null,null,null,null,null,null,null,null,null,null,null,null,null,180,null,null,null,{"$f":"IF(Bilgiler!Z64=\"X\",\" \",IF('PERFORMANS Testi'!N$2=\"\",RANDBETWEEN(177,180),'PERFORMANS Testi'!N64))","v":177},null,null,null,{"$f":"IF(Bilgiler!Z64=\"X\",\" \",S212-O212)","v":-3},null,null,{"$f":"IF(Bilgiler!Z64=\"X\",\" \",SQRT((0.0005*S212)^2+(0.005*SQRT(S212))^2))","v":0.11071246542282401},null,null,null,{"$f":"IF(Bilgiler!Z64=\"X\",\" \",IF(OR(W212<-5,W212>5),\"X\",\"√\"))","v":"√"}]
[null,null,null,null,null,null,null,null,null,null,null,null,null,null,200,null,null,null,{"$f":"IF(Bilgiler!Z64=\"X\",\" \",IF('PERFORMANS Testi'!AB$2=\"\",RANDBETWEEN(196,200),'PERFORMANS Testi'!AB64))","v":196},null,null,null,{"$f":"IF(Bilgiler!Z64=\"X\",\" \",S213-O213)","v":-4},null,null,{"$f":"IF(Bilgiler!Z64=\"X\",\" \",SQRT((0.0005*S213)^2+(0.005*SQRT(S213))^2))","v":0.12043255373859679},null,null,null,{"$f":"IF(Bilgiler!Z64=\"X\",\" \",IF(OR(W213<-5,W213>5),\"X\",\"√\"))","v":"√"}]
[null,null,null,null,null,null,null,null,null,null,null,null,null,null,240,null,null,null,{"$f":"IF(Bilgiler!Z64=\"X\",\" \",IF('PERFORMANS Testi'!AC$2=\"\",RANDBETWEEN(235,240),'PERFORMANS Testi'!AC64))","v":236},null,null,null,{"$f":"IF(Bilgiler!Z64=\"X\",\" \",S214-O214)","v":-4},null,null,{"$f":"IF(Bilgiler!Z64=\"X\",\" \",SQRT((0.0005*S214)^2+(0.005*SQRT(S214))^2))","v":0.14079772725438433},null,null,null,{"$f":"IF(Bilgiler!Z64=\"X\",\" \",IF(OR(W214<-5,W214>5),\"X\",\"√\"))","v":"√"}]
[null,null,null,null,null,null,null,null,null,null,null,null,null,null,300,null,null,null,{"$f":"IF(Bilgiler!Z64=\"X\",\" \",IF('PERFORMANS Testi'!AD$2=\"\",RANDBETWEEN(296,300),'PERFORMANS Testi'!AD64))","v":296},null,null,null,{"$f":"IF(Bilgiler!Z64=\"X\",\" \",S215-O215)","v":-4},null,null,{"$f":"IF(Bilgiler!Z64=\"X\",\" \",SQRT((0.0005*S215)^2+(0.005*SQRT(S215))^2))","v":0.17118411141224527},null,null,null,{"$f":"IF(Bilgiler!Z64=\"X\",\" \",IF(OR(W215<-5,W215>5),\"X\",\"√\"))","v":"√"}]
[]
[null,null,null,null,null,null,"DALGA ŞEKLİ TESTİ 1",null,null,null,null,null,null,null,null,null,null,null,null,null,"DALGA ŞEKLİ TESTİ 2"]
[null,null,null,null,null,null,"Dalga Şekli",null,null,null,null,"Ayarlanan Hz",null,null,null,"Sonuç",null,null,null,null,"Dalga Şekli",null,null,null,null,"Ayarlanan Hz",null,null,null,"Sonuç"]
[null,null,null,null,null,null,"Sinüs",null,null,null,null,5,null,null,null,{"$f":"IF(Bilgiler!Z64=\"X\",\" \",IF('PERFORMANS Testi'!AE64=\"\",\"√\",'PERFORMANS Testi'!AE64))","v":"√"},null,null,null,null,"Kare",null,null,null,null,2,null,null,null,{"$f":"IF(Bilgiler!Z64=\"X\",\" \",IF('PERFORMANS Testi'!AF64=\"\",\"√\",'PERFORMANS Testi'!AF64))","v":"√"}]
[]
[null,null,null,null,null,null,"YAZICI TESTİ ( Kriter +/- %2)",null,null,null,null,null,null,null,null,null,null,null,null,null,"DUYARLILIK TESTİ"]
[null,null,null,null,null,null,"Ölçüm Parametresi",null,null,null,null,null,null,null,"Sonuç",null,null,null,null,null,"Ölçüm Parametresi",null,null,null,null,null,null,null,"Sonuç"]
[null,null,null,null,null,null,"25 mm/s (60bpm)",null,null,null,null,null,null,null,{"$f":"IF(Bilgiler!Z64=\"X\",\" \",IF('PERFORMANS Testi'!AG64=\"\",\"√\",'PERFORMANS Testi'!AG64))","v":"√"},null,null,null,null,null,"2,5 mm/mV",null,null,null,null,null,null,null,{"$f":"IF(Bilgiler!Z64=\"X\",\" \",IF('PERFORMANS Testi'!AH64=\"\",\"√\",'PERFORMANS Testi'!AH64))","v":"√"}]
[]
[null,null,null,null,null,null,"ST YÜKSELME VE ÇÖKME",null,null,null,null,null,null,null,null,null,null,null,null,null,"ALARM TESTLERİ"]
[null,null,null,null,null,null,"Ölçüm Parametresi",null,null,null,null,null,null,null,"Sonuç",null,null,null,null,null,"Ölçüm Parametresi",null,null,null,null,null,null,null,"Sonuç"]
[null,null,null,null,null,null,"+ 0,8mV",null,null,null,null,null,null,null,{"$f":"IF(Bilgiler!Z64=\"X\",\" \",IF('PERFORMANS Testi'!AI64=\"\",\"√\",'PERFORMANS Testi'!AI64))","v":"√"},null,null,null,null,null,"Alt Limit",null,null,null,null,null,null,null,{"$f":"IF(Bilgiler!Z64=\"X\",\" \",IF('PERFORMANS Testi'!AK64=\"\",\"√\",'PERFORMANS Testi'!AK64))","v":"√"}]
[null,null,null,null,null,null,"- 0,8mV",null,null,null,null,null,null,null,{"$f":"IF(Bilgiler!Z64=\"X\",\" \",IF('PERFORMANS Testi'!AJ64=\"\",\"√\",'PERFORMANS Testi'!AJ64))","v":"√"},null,null,null,null,null,"Üst Limit",null,null,null,null,null,null,null,{"$f":"IF(Bilgiler!Z64=\"X\",\" \",IF('PERFORMANS Testi'!AL64=\"\",\"√\",'PERFORMANS Testi'!AL64))","v":"√"}]
[]
[null,null,null,null,null,null,"ARİTMİ TESTİ"]
[null,null,null,null,null,null,"Ölçüm Parametresi",null,null,null,null,null,null,null,"Sonuç"]
[null,null,null,null,null,null,"Bigeminy",null,null,null,null,null,null,null,{"$f":"IF(Bilgiler!Z58=\"X\",\" \",IF('PERFORMANS Testi'!$AK$2=\"\",\"√\",'PERFORMANS Testi'!$AK$2))","v":"√"}]
[null,null,null,null,null,null,"Trigeminy",null,null,null,null,null,null,null,{"$f":"IF(Bilgiler!Z58=\"X\",\" \",IF('PERFORMANS Testi'!$AL$2=\"\",\"√\",'PERFORMANS Testi'!$AL$2))","v":"√"}]
[null,null,null,null,null,null,"Ventricular Tachycardia",null,null,null,null,null,null,null,{"$f":"IF(Bilgiler!Z58=\"X\",\" \",IF('PERFORMANS Testi'!$AM$2=\"\",\"√\",'PERFORMANS Testi'!$AM$2))","v":"√"}]
[null,null,null,null,null,null,"Ventricular Fibrilation",null,null,null,null,null,null,null,{"$f":"IF(Bilgiler!Z58=\"X\",\" \",IF('PERFORMANS Testi'!$AN$2=\"\",\"√\",'PERFORMANS Testi'!$AN$2))","v":"√"}]
[null,null,null,null,null,null,"Atrial Tachycardia",null,null,null,null,null,null,null,{"$f":"IF(Bilgiler!Z58=\"X\",\" \",IF('PERFORMANS Testi'!$AO$2=\"\",\"√\",'PERFORMANS Testi'!$AO$2))","v":"√"}]
[null,null,null,null,null,null,"Atrial Fibrilation",null,null,null,null,null,null,null,{"$f":"IF(Bilgiler!Z58=\"X\",\" \",IF('PERFORMANS Testi'!$AP$2=\"\",\"√\",'PERFORMANS Testi'!$AP$2))","v":"√"}]
[null,null,null,null,null,null,"Asystole",null,null,null,null,null,null,null,{"$f":"IF(Bilgiler!Z58=\"X\",\" \",IF('PERFORMANS Testi'!$AQ$2=\"\",\"√\",'PERFORMANS Testi'!$AQ$2))","v":"√"}]
[]
[null,null,null,null,null,null,"FİZİKSEL KONTROL"]
[null,null,null,null,null,null,"Kontrol Edilen Bölgeler",null,null,null,null,null,null,null,null,null,null,null,null,null,null,null,null,null,null,null,null,null,null,"Sonuç"]
[null,null,null,null,null,null,"Şase Dış Muhafaza",null,null,null,null,null,null,null,null,null,null,null,null,null,null,null,null,null,null,null,null,null,null,{"$f":"IF(Bilgiler!Z47=\"X\",IF('PERFORMANS Testi'!$AR$2=\"\",\"√\",'PERFORMANS Testi'!$AR$2),\"√\")","v":"√"}]
[null,null,null,null,null,null,"Gösterge ve LCD ekran ve paneller",null,null,null,null,null,null,null,null,null,null,null,null,null,null,null,null,null,null,null,null,null,null,{"$f":"IF(Bilgiler!Z47=\"X\",IF('PERFORMANS Testi'!$AS$2=\"\",\"√\",'PERFORMANS Testi'!$AS$2),\"√\")","v":"√"}]
[null,null,null,null,null,null,"Montaj ve Yerleşimler",null,null,null,null,null,null,null,null,null,null,null,null,null,null,null,null,null,null,null,null,null,null,{"$f":"IF(Bilgiler!Z47=\"X\",IF('PERFORMANS Testi'!$AT$2=\"\",\"√\",'PERFORMANS Testi'!$AT$2),\"√\")","v":"√"}]
[null,null,null,null,null,null,"Besleme, Elektrik kablo ve prizleri",null,null,null,null,null,null,null,null,null,null,null,null,null,null,null,null,null,null,null,null,null,null,{"$f":"IF(Bilgiler!Z47=\"X\",IF('PERFORMANS Testi'!$AU$2=\"\",\"√\",'PERFORMANS Testi'!$AU$2),\"√\")","v":"√"}]
[null,null,null,null,null,null,"Butonlar, düğmeler",null,null,null,null,null,null,null,null,null,null,null,null,null,null,null,null,null,null,null,null,null,null,{"$f":"IF(Bilgiler!Z47=\"X\",IF('PERFORMANS Testi'!$AV$2=\"\",\"√\",'PERFORMANS Testi'!$AV$2),\"√\")","v":"√"}]
[null,null,null,null,null,null,"Alarm ses ve lamba/ledleri",null,null,null,null,null,null,null,null,null,null,null,null,null,null,null,null,null,null,null,null,null,null,{"$f":"IF(Bilgiler!Z47=\"X\",IF('PERFORMANS Testi'!$AW$2=\"\",\"√\",'PERFORMANS Testi'!$AW$2),\"√\")","v":"√"}]
[null,null,null,null,null,null,"Pil – Akü ve Batarya Fiziksel kontrol",null,null,null,null,null,null,null,null,null,null,null,null,null,null,null,null,null,null,null,null,null,null,{"$f":"IF(Bilgiler!Z47=\"X\",IF('PERFORMANS Testi'!$AX$2=\"\",\"√\",'PERFORMANS Testi'!$AX$2),\"√\")","v":"√"}]
[null,null,null,null,null,null,"Etiketler ve Uyarı İşaretleri",null,null,null,null,null,null,null,null,null,null,null,null,null,null,null,null,null,null,null,null,null,null,{"$f":"IF(Bilgiler!Z47=\"X\",IF('PERFORMANS Testi'!$AY$2=\"\",\"√\",'PERFORMANS Testi'!$AY$2),\"√\")","v":"√"}]
[]
[null,null,"UZMAN GÖRÜŞÜ",null,null,null,{"$f":"Bilgiler!W2","v":0}]
[]
[]
[]
[]
[]
[null,"Bu sertifika, laboratuarın yazılı izni olmadan kısmen kopyalanıp çoğaltılamaz. İmzasız sertifikalar geçersizdir."]
[null,"The certificate can not be fully or partly reproduced without the permission of the laboratory.Calibration certificates without signature are not valid."]
[null,"MB4001/ Yay.tar: 04.12.2008 /Rev.tar: 23.01.2024/Rev.no: 7",null,null,null,null,null,null,null,null,null,null,null,null,null,null,null,null,null,null,null,null,null,null,"Sayfa No / Number of Pages:",null,null,null,null,null,null,null,null,null,4,"/",4]

{"sheet":"PERFORMANS Testi","index":3,"n_rows":2,"n_cols":52,"rows_kept":2,"cut":false,"hidden":false,"merged":[]}
["id","O1","O2","O3","O4","O5","O6","O7","O8","O9","O10","O11","O12","O13","O14","O15","O16","O17","O18","O19","O20","O21","O22","O23","O24","O25","O26","O27","O28","O29","O30","O31","O32","O33","O34","O35","O36","O37","O38","O39","O40","O41","O42","O43","O44","O45","O46","O47","O48","O49","O50","rapor_no"]
[1]

{"sheet":"EGT Testi","index":4,"n_rows":2,"n_cols":18,"rows_kept":2,"cut":false,"hidden":false,"merged":[]}
["Id","ŞEBEKE GERİLİMİ [v]","YÜK AKIMI [a]","TOPRAK DİRENCİ","TOPRAK-KACAK-NC-µA","TOPRAK-KACAK-SFC-µA","GÖVDE-KAÇAK-NC","GÖVDE-KAÇAK-SFC-PE","GÖVDE-KAÇAK-SFC-LINE","GÜÇ","İZOLASYON-DİRENCİ","EKİPMAN-KAÇAK µA","HASTA-KACAK","HASTA-KACAK","HASTA-KACAK","HASTA-KACAK","HASTA-KACAK","EGT UZMAN GÖRÜŞÜ"]
[1,{"$f":"RANDBETWEEN(207,245)","v":233},{"$f":"RANDBETWEEN(0,16)/100+RANDBETWEEN(100,900)/1000","v":0.29500000000000004},{"$f":"RANDBETWEEN(0,2)/50+RANDBETWEEN(1,10)/100","v":0.1},{"$f":"RANDBETWEEN(20,480)","v":56},{"$f":"RANDBETWEEN(20,980)","v":236},{"$f":"RANDBETWEEN(4,92)","v":91},{"$f":"RANDBETWEEN(40,420)","v":208},{"$f":"RANDBETWEEN(40,420)","v":343},{"$f":"RANDBETWEEN(40,150)+RANDBETWEEN(1,9)/10","v":141.5},{"$f":"RANDBETWEEN(81,120)","v":82},{"$f":"RANDBETWEEN(68,385)","v":286},{"$f":"RANDBETWEEN(8,98)/10000","v":5.7000000000000002E-3},{"$f":"RANDBETWEEN(8,98)/10000","v":4.0000000000000001E-3},4.5999999999999999E-3,9.7000000000000003E-3,2.7000000000000001E-3,"Cihaz;  IEC60601-1 standartlarına göre Elektriksel Güvenlik Ölçüm testlerinden geçmiştir."]